BEGIN:VCALENDAR
VERSION:2.0
PRODID:-//FEBRAPSI - ECPv6.15.20//NONSGML v1.0//EN
CALSCALE:GREGORIAN
METHOD:PUBLISH
X-WR-CALNAME:FEBRAPSI
X-ORIGINAL-URL:https://febrapsi.org
X-WR-CALDESC:Eventos para FEBRAPSI
REFRESH-INTERVAL;VALUE=DURATION:PT1H
X-Robots-Tag:noindex
X-PUBLISHED-TTL:PT1H
BEGIN:VTIMEZONE
TZID:America/Sao_Paulo
BEGIN:STANDARD
TZOFFSETFROM:-0300
TZOFFSETTO:-0300
TZNAME:-03
DTSTART:20200101T000000
END:STANDARD
END:VTIMEZONE
BEGIN:VEVENT
DTSTART;TZID=America/Sao_Paulo:20210614T193000
DTEND;TZID=America/Sao_Paulo:20210614T193000
DTSTAMP:20260423T200600
CREATED:20211014T064337Z
LAST-MODIFIED:20211014T080856Z
UID:38671-1623699000-1623699000@febrapsi.org
SUMMARY:Conversas Psicanalíticas - 'Sobre os sonhos em tempos de pandemia'
DESCRIPTION:Atividade conjunta: Sociedade Psicanalítica de Porto Alegre (SPPA) e Liga de Psiquiatria e Saúde Mental da UFRGS e da UFCSPA (LIPSAM) \n\nConversas Psicanalíticas – Segunda edição\n‘Sobre os sonhos em tempos de pandemia’ \nPalestrante: Luciane Falcão (Psicanalista da SPPA)\nCoordenadores: Rafael Karam (Instituto da SPPA) e Guilherme Langa (LIPSAM) \nData: 13 de julho de 2021\nHorário: 20h\nDuração: 1 hora\nLocal: Plataforma Zoom \nAtividade aberta e gratuita. \nInscrições Antecipadas:\nhttps://zoom.us/webinar/register/WN_uCSSBYOJSui2hW6YkopAfw
URL:https://febrapsi.org/evento/conversas-psicanaliticas-sobre-os-sonhos-em-tempos-de-pandemia/
CATEGORIES:Geral
ORGANIZER;CN="SPPA":MAILTO:sppa@sppa.org.br
END:VEVENT
END:VCALENDAR