BEGIN:VCALENDAR
VERSION:2.0
PRODID:-//FEBRAPSI - ECPv6.15.20//NONSGML v1.0//EN
CALSCALE:GREGORIAN
METHOD:PUBLISH
X-WR-CALNAME:FEBRAPSI
X-ORIGINAL-URL:https://febrapsi.org
X-WR-CALDESC:Eventos para FEBRAPSI
REFRESH-INTERVAL;VALUE=DURATION:PT1H
X-Robots-Tag:noindex
X-PUBLISHED-TTL:PT1H
BEGIN:VTIMEZONE
TZID:America/Sao_Paulo
BEGIN:STANDARD
TZOFFSETFROM:-0200
TZOFFSETTO:-0300
TZNAME:-03
DTSTART:20190217T020000
END:STANDARD
END:VTIMEZONE
BEGIN:VEVENT
DTSTART;TZID=America/Sao_Paulo:20200930T000000
DTEND;TZID=America/Sao_Paulo:20200930T000000
DTSTAMP:20260422T155449
CREATED:20210615T035118Z
LAST-MODIFIED:20211014T080858Z
UID:8171-1601424000-1601424000@febrapsi.org
SUMMARY:CLÍNICA CONTEMPORÂNEA: O INFANTIL Á FLOR DA PELE?
DESCRIPTION:A Diretoria Científica da SBPSP convida para o webinar do Encontro Preparatório para o 52o. Congresso da IPA – Vancouver 2021. O tema é Clínica contemporânea: o infantil à flor da pele? Nossos convidados para a discussão são Virginia Ungar (presidente em exercício da IPA)\, Jorge Bruce (chair do comitê organizador do congresso) e Bernardo Tanis (presidente da SBPSP e autor de plenária para o congresso). A coordenação é de Silvana Rea (diretora científica da SBPSP) e contamos com a participação especial de Harriet Wolfe (presidente eleita da IPA). O evento é para membros e candidatos da Febrapsi e Fepal e as inscrições podem ser feitas em: www.sbpsp.org.br
URL:https://febrapsi.org/evento/clinica-contemporanea-o-infantil-a-flor-da-pele/
CATEGORIES:Geral
ATTACH;FMTTYPE=image/png:https://febrapsi.org/storage/2021/06/cartaz-site2-hyzEdh.tmp_.png
END:VEVENT
END:VCALENDAR