BEGIN:VCALENDAR
VERSION:2.0
PRODID:-//FEBRAPSI - ECPv6.15.20//NONSGML v1.0//EN
CALSCALE:GREGORIAN
METHOD:PUBLISH
X-WR-CALNAME:FEBRAPSI
X-ORIGINAL-URL:https://febrapsi.org
X-WR-CALDESC:Eventos para FEBRAPSI
REFRESH-INTERVAL;VALUE=DURATION:PT1H
X-Robots-Tag:noindex
X-PUBLISHED-TTL:PT1H
BEGIN:VTIMEZONE
TZID:America/Sao_Paulo
BEGIN:STANDARD
TZOFFSETFROM:-0200
TZOFFSETTO:-0300
TZNAME:-03
DTSTART:20190217T020000
END:STANDARD
END:VTIMEZONE
BEGIN:VEVENT
DTSTART;TZID=America/Sao_Paulo:20201121T000000
DTEND;TZID=America/Sao_Paulo:20201121T000000
DTSTAMP:20260423T131555
CREATED:20210615T035203Z
LAST-MODIFIED:20211014T080858Z
UID:8186-1605916800-1605916800@febrapsi.org
SUMMARY:Casal à Deriva na Perversão e Feridas da Infância
DESCRIPTION:Casal à Deriva na Perversão e Feridas da Infância – Sábado\, 21 de novembro de 2020\, às 11hs
URL:https://febrapsi.org/evento/casal-a-deriva-na-perversao-e-feridas-da-infancia/
CATEGORIES:Geral
END:VEVENT
END:VCALENDAR