BEGIN:VCALENDAR
VERSION:2.0
PRODID:-//FEBRAPSI - ECPv6.15.20//NONSGML v1.0//EN
CALSCALE:GREGORIAN
METHOD:PUBLISH
X-WR-CALNAME:FEBRAPSI
X-ORIGINAL-URL:https://febrapsi.org
X-WR-CALDESC:Eventos para FEBRAPSI
REFRESH-INTERVAL;VALUE=DURATION:PT1H
X-Robots-Tag:noindex
X-PUBLISHED-TTL:PT1H
BEGIN:VTIMEZONE
TZID:America/Sao_Paulo
BEGIN:STANDARD
TZOFFSETFROM:-0200
TZOFFSETTO:-0300
TZNAME:-03
DTSTART:20190217T020000
END:STANDARD
END:VTIMEZONE
BEGIN:VEVENT
DTSTART;TZID=America/Sao_Paulo:20200609T000000
DTEND;TZID=America/Sao_Paulo:20200609T000000
DTSTAMP:20260423T230136
CREATED:20210615T035018Z
LAST-MODIFIED:20211014T080858Z
UID:8138-1591660800-1591660800@febrapsi.org
SUMMARY:Café Literário - “Heimat: Ponderações de uma alemã sobre sua terra e história” - na plataforma Zoom/SPPA
DESCRIPTION:“Heimat: Ponderações de uma alemã sobre sua terra e história”\, de Nora Krug\, será o tema do Café Literário da Psicanalítica do dia 09 de junho (terça-feira)\, às 19h30\, na plataforma Zoom/SPPA. O Café Literário é organizado pela Sociedade Psicanalítica de Porto Alegre (SPPA) em parceria com Espaço Unisinos. \n A conversa será entre Ilton Gitz (Especialista em Educação pelo Instituto Melton da Universidade Hebraica de Jerusalém. Professor de Cultura Judaica do Colégio Israelita de Porto Alegre. Membro Associado da SIG) e Denise do Prado Bystronski (Psicanalista da SPPA)\, com a coordenação da Psicanalista Maria Regina Limeira Ortiz. \nInscreva-se antecipadamente para este webinar:\n https://us02web.zoom.us/webinar/register/WN_rx9k9nCSRrGa1gHaJszpNQ \nApós a inscrição\, você receberá um e-mail de confirmação contendo informações sobre como entrar no webinar.
URL:https://febrapsi.org/evento/cafe-literario-heimat-ponderacoes-de-uma-alema-sobre-sua-terra-e-historia-na-plataforma-zoom-sppa/
CATEGORIES:Geral
END:VEVENT
END:VCALENDAR