BEGIN:VCALENDAR
VERSION:2.0
PRODID:-//FEBRAPSI - ECPv6.15.20//NONSGML v1.0//EN
CALSCALE:GREGORIAN
METHOD:PUBLISH
X-WR-CALNAME:FEBRAPSI
X-ORIGINAL-URL:https://febrapsi.org
X-WR-CALDESC:Eventos para FEBRAPSI
REFRESH-INTERVAL;VALUE=DURATION:PT1H
X-Robots-Tag:noindex
X-PUBLISHED-TTL:PT1H
BEGIN:VTIMEZONE
TZID:America/Sao_Paulo
BEGIN:STANDARD
TZOFFSETFROM:-0200
TZOFFSETTO:-0300
TZNAME:-03
DTSTART:20180218T020000
END:STANDARD
BEGIN:DAYLIGHT
TZOFFSETFROM:-0300
TZOFFSETTO:-0200
TZNAME:-02
DTSTART:20181104T030000
END:DAYLIGHT
BEGIN:STANDARD
TZOFFSETFROM:-0200
TZOFFSETTO:-0300
TZNAME:-03
DTSTART:20190217T020000
END:STANDARD
END:VTIMEZONE
BEGIN:VEVENT
DTSTART;TZID=America/Sao_Paulo:20191112T000000
DTEND;TZID=America/Sao_Paulo:20191112T000000
DTSTAMP:20260423T191313
CREATED:20210615T034832Z
LAST-MODIFIED:20211014T080859Z
UID:8084-1573516800-1573516800@febrapsi.org
SUMMARY:Café Literário da Psicanalítica - “Vendedor de Passados”\, de José Eduardo Agualusa - SPPA
DESCRIPTION:“Vendedor de Passados”\, de José Eduardo Agualusa será o tema do Café Literário da Psicanalítica do dia 12 de novembro (terça-feira)\, às 19h30\, no 18 Café\, Espaço Unisinos. \nA conversa será entre Demétrio Alves Paz (Professor Associado de Teoria Literária e Literaturas de Língua Portuguesa na Universidade Federal da Fronteira Sul em Cerro Largo – RS) e Gustavo Antônio de Paiva Soares (Psicanalista da SPPA)\, com a coordenação da Psicanalista Maria Regina Limeira Ortiz. \nO Café Literário da Psicanalítica é uma atividade com entrada franca.
URL:https://febrapsi.org/evento/cafe-literario-da-psicanalitica-vendedor-de-passados-de-jose-eduardo-agualusa-sppa/
CATEGORIES:Geral
ATTACH;FMTTYPE=image/jpeg:https://febrapsi.org/storage/2021/06/2019-11-12-cafe-literario-5RZP1R.tmp_.jpg
END:VEVENT
END:VCALENDAR