BEGIN:VCALENDAR
VERSION:2.0
PRODID:-//FEBRAPSI - ECPv6.15.20//NONSGML v1.0//EN
CALSCALE:GREGORIAN
METHOD:PUBLISH
X-WR-CALNAME:FEBRAPSI
X-ORIGINAL-URL:https://febrapsi.org
X-WR-CALDESC:Eventos para FEBRAPSI
REFRESH-INTERVAL;VALUE=DURATION:PT1H
X-Robots-Tag:noindex
X-PUBLISHED-TTL:PT1H
BEGIN:VTIMEZONE
TZID:America/Sao_Paulo
BEGIN:STANDARD
TZOFFSETFROM:-0300
TZOFFSETTO:-0300
TZNAME:-03
DTSTART:20250101T000000
END:STANDARD
END:VTIMEZONE
BEGIN:VEVENT
DTSTART;TZID=America/Sao_Paulo:20260512T193000
DTEND;TZID=America/Sao_Paulo:20260512T210000
DTSTAMP:20260423T210350
CREATED:20260423T203033Z
LAST-MODIFIED:20260423T203033Z
UID:59654-1778614200-1778619600@febrapsi.org
SUMMARY:Café Literário da Psicanalítica: “Mau hábito”\, de Alana Portero
DESCRIPTION:Convidamos para o Café Literário da Psicanalítica: “Mau hábito”\, de Alana Portero\, dia 12 de maio\, às 19h30\, na Plataforma Zoom/ SPPA. \nConvidados: \nRafael Jacobsen\nEscritor \nSérgio Lewkowicz\nPsicanalista da SPPA \nCoordenação:\nElena Beatriz Tomasel\nPsicanalista da SPPA \nInscrição antecipada:\nhttps://us06web.zoom.us/webinar/register/WN_JbJb2kMKQJO1CEYfQCfqDQ \nAtividade aberta e gratuita!
URL:https://febrapsi.org/evento/cafe-literario-da-psicanalitica-mau-habito-de-alana-portero/
LOCATION:Online – Plataforma Zoom
CATEGORIES:Geral
ATTACH;FMTTYPE=image/jpeg:https://febrapsi.org/storage/2026/04/2026-05-12-01-Cafe-Literario.jpeg
ORGANIZER;CN="SPPA":MAILTO:sppa@sppa.org.br
END:VEVENT
END:VCALENDAR