BEGIN:VCALENDAR
VERSION:2.0
PRODID:-//FEBRAPSI - ECPv6.15.20//NONSGML v1.0//EN
CALSCALE:GREGORIAN
METHOD:PUBLISH
X-WR-CALNAME:FEBRAPSI
X-ORIGINAL-URL:https://febrapsi.org
X-WR-CALDESC:Eventos para FEBRAPSI
REFRESH-INTERVAL;VALUE=DURATION:PT1H
X-Robots-Tag:noindex
X-PUBLISHED-TTL:PT1H
BEGIN:VTIMEZONE
TZID:America/Sao_Paulo
BEGIN:STANDARD
TZOFFSETFROM:-0200
TZOFFSETTO:-0300
TZNAME:-03
DTSTART:20180218T020000
END:STANDARD
BEGIN:DAYLIGHT
TZOFFSETFROM:-0300
TZOFFSETTO:-0200
TZNAME:-02
DTSTART:20181104T030000
END:DAYLIGHT
BEGIN:STANDARD
TZOFFSETFROM:-0200
TZOFFSETTO:-0300
TZNAME:-03
DTSTART:20190217T020000
END:STANDARD
END:VTIMEZONE
BEGIN:VEVENT
DTSTART;TZID=America/Sao_Paulo:20190813T000000
DTEND;TZID=America/Sao_Paulo:20190813T000000
DTSTAMP:20260422T184547
CREATED:20210615T034746Z
LAST-MODIFIED:20211014T080859Z
UID:8062-1565654400-1565654400@febrapsi.org
SUMMARY:Café Literário da Psicanalítica - “Hamlet” de Shakespeare - SPPA
DESCRIPTION:“Hamlet” de Shakespeare será o tema do Café Literário da Psicanalítica do dia 13 de agosto (terça-feira)\, às 19h30\, no 18 Café\, Espaço Unisinos. \nA conversa será entre Fernando Machado Brum (Professor dos Colégios Anchieta e Israelita\, Doutor em Literatura pela UFRGS) e Cláudio Laks Eizirik (Psicanalista da SPPA)\, com a coordenação da Psicanalista Maria Regina Limeira Ortiz. \nO Café Literário da Psicanalítica é uma atividade com entrada franca. \n \nEvento: Café Literário da Psicanalítica\n Tema: “Hamlet” de Shakespeare\n Coordenação: Maria Regina Limeira Ortiz (Psicanalista da SPPA)\n Convidados: Fernando Machado Brum (Professor dos Colégios Anchieta e Israelita\, Doutor em Literatura pela UFRGS) e Cláudio Laks Eizirik (Psicanalista da SPPA)\n Data: 13 de agosto de 2019\n Horário: 19h30\n Local: 18 Café\, Espaço Unisinos (Dr. Nilo Peçanha\, 1.500\, Boa Vista\, Porto Alegre – RS) \nEntrada Franca \n 
URL:https://febrapsi.org/evento/cafe-literario-da-psicanalitica-hamlet-de-shakespeare-sppa/
CATEGORIES:Geral
END:VEVENT
END:VCALENDAR