BEGIN:VCALENDAR
VERSION:2.0
PRODID:-//FEBRAPSI - ECPv6.15.20//NONSGML v1.0//EN
CALSCALE:GREGORIAN
METHOD:PUBLISH
X-WR-CALNAME:FEBRAPSI
X-ORIGINAL-URL:https://febrapsi.org
X-WR-CALDESC:Eventos para FEBRAPSI
REFRESH-INTERVAL;VALUE=DURATION:PT1H
X-Robots-Tag:noindex
X-PUBLISHED-TTL:PT1H
BEGIN:VTIMEZONE
TZID:America/Sao_Paulo
BEGIN:STANDARD
TZOFFSETFROM:-0300
TZOFFSETTO:-0300
TZNAME:-03
DTSTART:20200101T000000
END:STANDARD
END:VTIMEZONE
BEGIN:VEVENT
DTSTART;TZID=America/Sao_Paulo:20210423T193800
DTEND;TZID=America/Sao_Paulo:20210423T193800
DTSTAMP:20260424T182005
CREATED:20211014T064238Z
LAST-MODIFIED:20211014T080857Z
UID:38651-1619206680-1619206680@febrapsi.org
SUMMARY:Café Literário da Psicanalítica - "Dom Casmurro" de Machado de Assis
DESCRIPTION:“Dom Casmurro” de Machado de Assis\, será o tema do Café Literário da Psicanalítica do dia 11 de maio (terça-feira)\, às 19h30\, na plataforma Zoom/SPPA.  \nA conversa será entre Fernando Brum (Professor dos colégios Anchieta e Israelita\, Doutor em Literatura pela UFRGS) e Flávio de Oliveira e Souza (Psicanalista da SPPA)\, com a coordenação da Psicanalista Maria Regina Limeira Ortiz. \nInscrições antecipadas:\nhttps://zoom.us/webinar/register/WN_eN7k-XjKQZi4sZRmwu3Y1w \n \nAtividade aberta e gratuita. \nAtenciosamente\,\nJosé Carlos Calich – Presidente\nEmílio Salle – Diretor de Divulgação e Ações junto à Comunidade \nMaria Regina Limeira Ortiz – Coordenadora do Café Literário  \n 
URL:https://febrapsi.org/evento/cafe-literario-da-psicanalitica-dom-casmurro-de-machado-de-assis/
CATEGORIES:Geral
ATTACH;FMTTYPE=image/jpeg:https://febrapsi.org/storage/2021/10/2021-05-11-cafe-literario-W03Wxr.tmp_.jpg
ORGANIZER;CN="SPPA":MAILTO:sppa@sppa.org.br
END:VEVENT
END:VCALENDAR