BEGIN:VCALENDAR
VERSION:2.0
PRODID:-//FEBRAPSI - ECPv6.15.20//NONSGML v1.0//EN
CALSCALE:GREGORIAN
METHOD:PUBLISH
X-WR-CALNAME:FEBRAPSI
X-ORIGINAL-URL:https://febrapsi.org
X-WR-CALDESC:Eventos para FEBRAPSI
REFRESH-INTERVAL;VALUE=DURATION:PT1H
X-Robots-Tag:noindex
X-PUBLISHED-TTL:PT1H
BEGIN:VTIMEZONE
TZID:America/Sao_Paulo
BEGIN:STANDARD
TZOFFSETFROM:-0300
TZOFFSETTO:-0300
TZNAME:-03
DTSTART:20200101T000000
END:STANDARD
END:VTIMEZONE
BEGIN:VEVENT
DTSTART;TZID=America/Sao_Paulo:20210730T031700
DTEND;TZID=America/Sao_Paulo:20210730T031700
DTSTAMP:20260423T230119
CREATED:20211014T064408Z
LAST-MODIFIED:20211014T080856Z
UID:38682-1627615020-1627615020@febrapsi.org
SUMMARY:Café Literário da Psicanalítica  - "As mais belas coisas do mundo”
DESCRIPTION:“As mais belas coisas do mundo” de Valter Hugo Mãe\, será o tema do Café Literário da Psicanalítica do dia 10 de agosto (terça-feira)\, às 19h30\, na plataforma Zoom/SPPA.  \nA conversa será entre Fernanda Borges (Doutora em Teoria Literária e Professora de Literatura) e Paulo Berél Sukiennik (Psicanalista da SPPA)\, com a coordenação da Psicanalista Maria Regina Limeira Ortiz. \nInscrições antecipadas:\nhttps://zoom.us/webinar/register/WN_G9bwvSbbToG-EM5K16M-zw \nAtividade aberta e gratuita. \nAtenciosamente\,\nJosé Carlos Calich – Presidente\nEmílio Salle – Diretor de Divulgação e Ações junto à Comunidade \nMaria Regina Limeira Ortiz – Coordenadora do Café Literário  \n  \n 
URL:https://febrapsi.org/evento/cafe-literario-da-psicanalitica-as-mais-belas-coisas-do-mundo-3/
CATEGORIES:Geral
ORGANIZER;CN="SPPA":MAILTO:sppa@sppa.org.br
END:VEVENT
END:VCALENDAR