BEGIN:VCALENDAR
VERSION:2.0
PRODID:-//FEBRAPSI - ECPv6.15.20//NONSGML v1.0//EN
CALSCALE:GREGORIAN
METHOD:PUBLISH
X-WR-CALNAME:FEBRAPSI
X-ORIGINAL-URL:https://febrapsi.org
X-WR-CALDESC:Eventos para FEBRAPSI
REFRESH-INTERVAL;VALUE=DURATION:PT1H
X-Robots-Tag:noindex
X-PUBLISHED-TTL:PT1H
BEGIN:VTIMEZONE
TZID:America/Sao_Paulo
BEGIN:STANDARD
TZOFFSETFROM:-0300
TZOFFSETTO:-0300
TZNAME:-03
DTSTART:20240101T000000
END:STANDARD
END:VTIMEZONE
BEGIN:VEVENT
DTSTART;TZID=America/Sao_Paulo:20251111T193000
DTEND;TZID=America/Sao_Paulo:20251111T210000
DTSTAMP:20260422T124627
CREATED:20250826T103325Z
LAST-MODIFIED:20250826T103325Z
UID:56185-1762889400-1762894800@febrapsi.org
SUMMARY:Café Literário da Psicanalítica: “A louca da casa”\, de Rosa Montero
DESCRIPTION:“A louca da casa”\, de Rosa Montero\, será o tema do Café Literário da Psicanalítica do dia 11 de novembro (terça-feira)\, às 19h30\, na plataforma Zoom/SPPA. \nA conversa será entre Léa Masina (Crítica Literária e Professora de Literatura) e Mário Tregnago Barcellos (Psicanalista da SPPA)\, com a coordenação da Psicanalista Maria Regina Limeira Ortiz. \nInscrição antecipada:\nhttps://us06web.zoom.us/webinar/register/WN_1BuCvjoXQUGAspn_-wndLg \nAtividade aberta e gratuita
URL:https://febrapsi.org/evento/cafe-literario-da-psicanalitica-a-louca-da-casa-de-rosa-montero/
LOCATION:Evento Online
CATEGORIES:Geral
ATTACH;FMTTYPE=image/jpeg:https://febrapsi.org/storage/2025/08/2025-11-11-A-Cafe-Literario.jpg
ORGANIZER;CN="SPPA":MAILTO:sppa@sppa.org.br
END:VEVENT
END:VCALENDAR