BEGIN:VCALENDAR
VERSION:2.0
PRODID:-//FEBRAPSI - ECPv6.15.20//NONSGML v1.0//EN
CALSCALE:GREGORIAN
METHOD:PUBLISH
X-WR-CALNAME:FEBRAPSI
X-ORIGINAL-URL:https://febrapsi.org
X-WR-CALDESC:Eventos para FEBRAPSI
REFRESH-INTERVAL;VALUE=DURATION:PT1H
X-Robots-Tag:noindex
X-PUBLISHED-TTL:PT1H
BEGIN:VTIMEZONE
TZID:America/Sao_Paulo
BEGIN:STANDARD
TZOFFSETFROM:-0200
TZOFFSETTO:-0300
TZNAME:-03
DTSTART:20190217T020000
END:STANDARD
END:VTIMEZONE
BEGIN:VEVENT
DTSTART;TZID=America/Sao_Paulo:20200811T000000
DTEND;TZID=America/Sao_Paulo:20200811T000000
DTSTAMP:20260423T005258
CREATED:20210615T035102Z
LAST-MODIFIED:20211014T080858Z
UID:8159-1597104000-1597104000@febrapsi.org
SUMMARY:Café Literário - “As meninas”\, de Lygia Fagundes Telles
DESCRIPTION:“As meninas”\, de Lygia Fagundes Telles\, será o tema do Café Literário da Psicanalítica do dia 11 de agosto (terça-feira)\, às 19h30\, na plataforma Zoom/SPPA. O Café Literário é organizado pela Sociedade Psicanalítica de Porto Alegre (SPPA) em parceria com Espaço Unisinos. \nA conversa será entre Léa Masina (Professora de Literatura\, Critica Literária\, Ensaista. Doutora em Literatura Comparada) e Margareth Silveira Campos (Psicanalista da SPPA)\, com a coordenação da Psicanalista Maria Regina Limeira Ortiz. \nLink para as inscrições:\n https://zoom.us/webinar/register/WN_hfbeXwS7SKu2ZMWte1oJfg
URL:https://febrapsi.org/evento/cafe-literario-as-meninas-de-lygia-fagundes-telles/
CATEGORIES:Geral
ATTACH;FMTTYPE=image/jpeg:https://febrapsi.org/storage/2021/06/2020-08-11-cafe-literario-3Y0dWq.tmp_.jpg
END:VEVENT
END:VCALENDAR