BEGIN:VCALENDAR
VERSION:2.0
PRODID:-//FEBRAPSI - ECPv6.15.20//NONSGML v1.0//EN
CALSCALE:GREGORIAN
METHOD:PUBLISH
X-WR-CALNAME:FEBRAPSI
X-ORIGINAL-URL:https://febrapsi.org
X-WR-CALDESC:Eventos para FEBRAPSI
REFRESH-INTERVAL;VALUE=DURATION:PT1H
X-Robots-Tag:noindex
X-PUBLISHED-TTL:PT1H
BEGIN:VTIMEZONE
TZID:America/Sao_Paulo
BEGIN:STANDARD
TZOFFSETFROM:-0200
TZOFFSETTO:-0300
TZNAME:-03
DTSTART:20190217T020000
END:STANDARD
END:VTIMEZONE
BEGIN:VEVENT
DTSTART;TZID=America/Sao_Paulo:20200425T000000
DTEND;TZID=America/Sao_Paulo:20200425T000000
DTSTAMP:20260423T204239
CREATED:20210615T034948Z
LAST-MODIFIED:20211014T080859Z
UID:8123-1587772800-1587772800@febrapsi.org
SUMMARY:BRASIL – FRANÇA:  DIÁLOGOS PSICANALÍTICOS
DESCRIPTION:Atividade no modelo do Congresso de Psicanálise de Língua Francesa \n8:30h – Abertura \n Bernardo Tanis (SBPSP) e Silvana Rea (SBPSP) \n9:00h – 9:45h – Conferência de François Richard: Psicanálise\, Bissexualidade\, Incesto\n Coordenação: Silvana Rea (SBPSP) \n09:50h – 10:40h – Comentários: Ruggero Levy (SPPA) e Luís Carlos Menezes (SBPSP) \n Coordenação: José Martins Canelas (SBPSP) \n10:40h – 11:00h – Intervalo para café \n11:00h – 12:30h – Debate de François Richard com a plateia \n Coordenação: Admar Horn (SBPRJ) \n12:30h – 14:30h – Intervalo para almoço \n14:30h – 16:00h – Ateliês: discussão em pequenos grupos\n Miguel Calmon du Pin e Almeida (SBPRJ)\, Silvia Helena Heimburger (SPBsb)\, Ane Marlise P. Rodrigues (SBPdePA)\, \n Zelig Libermann (SPPA) \, Sandra Schaffa (SBPSP) \n16:15h – Encerramento: François Richard (SPP)\, Bernardo Tanis (SBPSP)\, Miguel Calmon du Pin e Almeida (SBPRJ) \nFrançois Richard é membro da Société Psychanalytique de Paris (SPP)\, professor da Université Paris 7 (Denis Diderot) e pesquisador do Centre d’Études en Psychopathologie et Psychanalyse\, com foco nos estudos dos processos de subjetivação\, casos-limite\, psicopatologia do adolescente e mal-estar da cultura. Foi um dos relatores do Congresso de Psicanálise de Língua Francesa de 2019. \n Inscrições no site www.sbpsp.org.br \n 
URL:https://febrapsi.org/evento/brasil-franca-dialogos-psicanaliticos/
CATEGORIES:Geral
END:VEVENT
END:VCALENDAR