BEGIN:VCALENDAR
VERSION:2.0
PRODID:-//FEBRAPSI - ECPv6.15.20//NONSGML v1.0//EN
CALSCALE:GREGORIAN
METHOD:PUBLISH
X-WR-CALNAME:FEBRAPSI
X-ORIGINAL-URL:https://febrapsi.org
X-WR-CALDESC:Eventos para FEBRAPSI
REFRESH-INTERVAL;VALUE=DURATION:PT1H
X-Robots-Tag:noindex
X-PUBLISHED-TTL:PT1H
BEGIN:VTIMEZONE
TZID:America/Sao_Paulo
BEGIN:STANDARD
TZOFFSETFROM:-0200
TZOFFSETTO:-0300
TZNAME:-03
DTSTART:20180218T020000
END:STANDARD
BEGIN:DAYLIGHT
TZOFFSETFROM:-0300
TZOFFSETTO:-0200
TZNAME:-02
DTSTART:20181104T030000
END:DAYLIGHT
BEGIN:STANDARD
TZOFFSETFROM:-0200
TZOFFSETTO:-0300
TZNAME:-03
DTSTART:20190217T020000
END:STANDARD
END:VTIMEZONE
BEGIN:VEVENT
DTSTART;TZID=America/Sao_Paulo:20190918T000000
DTEND;TZID=America/Sao_Paulo:20190918T000000
DTSTAMP:20260423T045736
CREATED:20210615T034802Z
LAST-MODIFIED:20211014T080859Z
UID:8071-1568764800-1568764800@febrapsi.org
SUMMARY:Bernard Golse na SPPA
DESCRIPTION:Bernard Golse na SPPA\, dia 18 de setembro (quarta-feira)\, às 20h\, no Anfiteatro da SPPA.  Conferência: Do corpo ao pensamento: a importância dos cuidados cotidianos do bebê. \nAtividade aberta e gratuita
URL:https://febrapsi.org/evento/bernard-golse-na-sppa/
CATEGORIES:Geral
ATTACH;FMTTYPE=image/jpeg:https://febrapsi.org/storage/2021/06/2019-09-18-bernard-golse-na-sppa-q0csHl.tmp_.jpg
END:VEVENT
END:VCALENDAR