BEGIN:VCALENDAR
VERSION:2.0
PRODID:-//FEBRAPSI - ECPv6.15.20//NONSGML v1.0//EN
CALSCALE:GREGORIAN
METHOD:PUBLISH
X-WR-CALNAME:FEBRAPSI
X-ORIGINAL-URL:https://febrapsi.org
X-WR-CALDESC:Eventos para FEBRAPSI
REFRESH-INTERVAL;VALUE=DURATION:PT1H
X-Robots-Tag:noindex
X-PUBLISHED-TTL:PT1H
BEGIN:VTIMEZONE
TZID:America/Sao_Paulo
BEGIN:STANDARD
TZOFFSETFROM:-0200
TZOFFSETTO:-0300
TZNAME:-03
DTSTART:20190217T020000
END:STANDARD
END:VTIMEZONE
BEGIN:VEVENT
DTSTART;TZID=America/Sao_Paulo:20200827T000000
DTEND;TZID=America/Sao_Paulo:20200827T000000
DTSTAMP:20260422T154711
CREATED:20210615T035117Z
LAST-MODIFIED:20211014T080858Z
UID:8169-1598486400-1598486400@febrapsi.org
SUMMARY:BALINT e o trabalho em grupos
DESCRIPTION:Reunião Científica online_Zoom | 27/08 – 21:00 \nApresentadores: \nCarla Penna\, psicanalista CPRJ\, doutora em Psicologia Clínica (Puc-Rio) e membro da Group Analytic Society International \nLuiz Fernando Chazan\, psicanalista SBPRJ \nCoordenação: Monica Aguiar\, psicanalista SBPRJ \n Atividade aberta e gratuita \n Inscrições até as 12:00 do dia 27/08 pelo e-mail: sbprjeventos@gmail.com  \nFAVOR COLOCAR NO ASSUNTO “Palestra 27/08” \n O ID e a senha serão enviados a todos os inscritos até 3 horas antes da transmissão.
URL:https://febrapsi.org/evento/balint-e-o-trabalho-em-grupos/
CATEGORIES:Geral
ATTACH;FMTTYPE=image/png:https://febrapsi.org/storage/2021/06/rc-on-line-4-gbAn28.tmp_.png
END:VEVENT
END:VCALENDAR