BEGIN:VCALENDAR
VERSION:2.0
PRODID:-//FEBRAPSI - ECPv6.15.20//NONSGML v1.0//EN
CALSCALE:GREGORIAN
METHOD:PUBLISH
X-WR-CALNAME:FEBRAPSI
X-ORIGINAL-URL:https://febrapsi.org
X-WR-CALDESC:Eventos para FEBRAPSI
REFRESH-INTERVAL;VALUE=DURATION:PT1H
X-Robots-Tag:noindex
X-PUBLISHED-TTL:PT1H
BEGIN:VTIMEZONE
TZID:America/Sao_Paulo
BEGIN:STANDARD
TZOFFSETFROM:-0300
TZOFFSETTO:-0300
TZNAME:-03
DTSTART:20250101T000000
END:STANDARD
END:VTIMEZONE
BEGIN:VEVENT
DTSTART;TZID=America/Sao_Paulo:20260313T193000
DTEND;TZID=America/Sao_Paulo:20260313T210000
DTSTAMP:20260422T061359
CREATED:20260213T160531Z
LAST-MODIFIED:20260213T160531Z
UID:58582-1773430200-1773435600@febrapsi.org
SUMMARY:Aula Inaugural: O tempo
DESCRIPTION:Aula Inaugural: O tempo \nDia; 13 março de 2026 \nHorário: 19h30 \nHíbrido \nGratuito
URL:https://febrapsi.org/evento/aula-inaugural-o-tempo/
LOCATION:SPRJ\, Rua Fernandes Guimarães\, 92\, Rio de Janeiro\, RJ\, 22290000\, Brazil
CATEGORIES:Geral
ATTACH;FMTTYPE=image/jpeg:https://febrapsi.org/storage/2026/02/13-03-2026.jpeg
ORGANIZER;CN="SPRJ":MAILTO:sprj.rio1@sprj.org.br
END:VEVENT
END:VCALENDAR