BEGIN:VCALENDAR
VERSION:2.0
PRODID:-//FEBRAPSI - ECPv6.15.20//NONSGML v1.0//EN
CALSCALE:GREGORIAN
METHOD:PUBLISH
X-WR-CALNAME:FEBRAPSI
X-ORIGINAL-URL:https://febrapsi.org
X-WR-CALDESC:Eventos para FEBRAPSI
REFRESH-INTERVAL;VALUE=DURATION:PT1H
X-Robots-Tag:noindex
X-PUBLISHED-TTL:PT1H
BEGIN:VTIMEZONE
TZID:America/Sao_Paulo
BEGIN:STANDARD
TZOFFSETFROM:-0300
TZOFFSETTO:-0300
TZNAME:-03
DTSTART:20200101T000000
END:STANDARD
END:VTIMEZONE
BEGIN:VEVENT
DTSTART;TZID=America/Sao_Paulo:20210710T000000
DTEND;TZID=America/Sao_Paulo:20210710T000000
DTSTAMP:20260424T132302
CREATED:20210615T042058Z
LAST-MODIFIED:20211014T080856Z
UID:8214-1625875200-1625875200@febrapsi.org
SUMMARY:ATIVIDADE PREPARATÓRIA DO 28° CONGRESSO BRASILEIRO DE PSICANÁLISE – “LAÇOS: O EU E O MUNDO”
DESCRIPTION:100 anos de Psicologia das Massas e Análise do Eu: Freud 1921 \n09:00h – Abertura\nCarmen C. Mion (Presidente da SBPSP)\nCintia Xavier de Albuquerque (Presidente da Febrapsi) \nBernard Miodownik (Diretor Científico da Febrapsi)\nCoordenadora: \nAna Maria Stucchi Vannucchi (Diretora Científica da SBPSP) \nA Diretoria Científica convida para Atividade Preparatória do 28° Congresso Brasileiro de Psicanálise\, em que comemoramos os cem anos deste texto seminal de Freud\, vivamente atual. Nele encontramos pela primeira vez o conceito de identificação como fundante do Eu e em relação com o complexo edípico. Freud aborda também os processos identificatórios nas relações do indivíduo com os grupos\, que podem levar à perda da consciência e da personalidade individual.  \n09:30h – 1ª mesa | Freud: Identificação e constituição do Eu\nPalestrantes:\nAna Maria Andrade de Azevedo (Membro efetivo\, analista didata e docente da SBPSP)\nLuiz Tenório Oliveira Lima (Membro efetivo e docente da SBPSP)\nCoordenadora: \nAna Maria Stucchi Vannucchi (Diretoria Científica da SBPSP) \n11:00h – intervalo \n11:30h – 2ª mesa | O indivíduo e o grupo: conflito e vulnerabilidade \nPalestrantes:\nRenato Mezan (professor titular da PUC/SP\, membro do Departamento de Psicanálise do Instituto Sedes Sapientiae)\nAntônio Carlos Eva (Membro efetivo\, analista didata e docente da SBPSP)\nCoordenadora: \nCelia Fix Korbivcher (Membro efetivo\, analista didata e docente da SBPSP)
URL:https://febrapsi.org/evento/atividade-preparatoria-do-28-congresso-brasileiro-de-psicanalise-lacos-o-eu-e-o-mundo/
CATEGORIES:Geral
ATTACH;FMTTYPE=image/jpeg:https://febrapsi.org/storage/2021/06/evento-exemplo.jpg
END:VEVENT
END:VCALENDAR