BEGIN:VCALENDAR
VERSION:2.0
PRODID:-//FEBRAPSI - ECPv6.15.20//NONSGML v1.0//EN
CALSCALE:GREGORIAN
METHOD:PUBLISH
X-WR-CALNAME:FEBRAPSI
X-ORIGINAL-URL:https://febrapsi.org
X-WR-CALDESC:Eventos para FEBRAPSI
REFRESH-INTERVAL;VALUE=DURATION:PT1H
X-Robots-Tag:noindex
X-PUBLISHED-TTL:PT1H
BEGIN:VTIMEZONE
TZID:America/Sao_Paulo
BEGIN:STANDARD
TZOFFSETFROM:-0200
TZOFFSETTO:-0300
TZNAME:-03
DTSTART:20180218T020000
END:STANDARD
BEGIN:DAYLIGHT
TZOFFSETFROM:-0300
TZOFFSETTO:-0200
TZNAME:-02
DTSTART:20181104T030000
END:DAYLIGHT
BEGIN:STANDARD
TZOFFSETFROM:-0200
TZOFFSETTO:-0300
TZNAME:-03
DTSTART:20190217T020000
END:STANDARD
END:VTIMEZONE
BEGIN:VEVENT
DTSTART;TZID=America/Sao_Paulo:20190925T000000
DTEND;TZID=America/Sao_Paulo:20190925T000000
DTSTAMP:20260424T091137
CREATED:20210615T034848Z
LAST-MODIFIED:20211014T080859Z
UID:8092-1569369600-1569369600@febrapsi.org
SUMMARY:Atividade Mensal da DIA - “Ecos do Simpósio e do encontro com Bernard Golse” - SPPA
DESCRIPTION:Convidamos para a Atividade Mensal da Diretoria da Infância e Adolescência – DIA\, dia 25 de setembro (quarta-feira)\, às 11h30\, no Anfiteatro do 4º andar da SPPA. “Ecos do Simpósio e do encontro com Bernard Golse”.\n Apresentação: Equipe da DIA
URL:https://febrapsi.org/evento/atividade-mensal-da-dia-ecos-do-simposio-e-do-encontro-com-bernard-golse-sppa/
CATEGORIES:Geral
END:VEVENT
END:VCALENDAR