BEGIN:VCALENDAR
VERSION:2.0
PRODID:-//FEBRAPSI - ECPv6.15.20//NONSGML v1.0//EN
CALSCALE:GREGORIAN
METHOD:PUBLISH
X-WR-CALNAME:FEBRAPSI
X-ORIGINAL-URL:https://febrapsi.org
X-WR-CALDESC:Eventos para FEBRAPSI
REFRESH-INTERVAL;VALUE=DURATION:PT1H
X-Robots-Tag:noindex
X-PUBLISHED-TTL:PT1H
BEGIN:VTIMEZONE
TZID:America/Sao_Paulo
BEGIN:STANDARD
TZOFFSETFROM:-0200
TZOFFSETTO:-0300
TZNAME:-03
DTSTART:20190217T020000
END:STANDARD
END:VTIMEZONE
BEGIN:VEVENT
DTSTART;TZID=America/Sao_Paulo:20200312T000000
DTEND;TZID=America/Sao_Paulo:20200312T000000
DTSTAMP:20260423T223014
CREATED:20210615T034948Z
LAST-MODIFIED:20211014T080859Z
UID:8122-1583971200-1583971200@febrapsi.org
SUMMARY:Atividade de Abertura do Ano Científico SPPA
DESCRIPTION:Atividade de Abertura do Ano Científico: “As metamorfoses da Mitologia aos Transumanos”\, dia 12 de março\, às 20h30 no Anfiteatro da SPPA. Na ocasião\, receberemos o Professor Cláudio Moreno. \nAtividade aberta e gratuita!\n Inscrições: comunicacao@sppa.org.br
URL:https://febrapsi.org/evento/atividade-de-abertura-do-ano-cientifico-sppa/
CATEGORIES:Geral
END:VEVENT
END:VCALENDAR