BEGIN:VCALENDAR
VERSION:2.0
PRODID:-//FEBRAPSI - ECPv6.15.20//NONSGML v1.0//EN
CALSCALE:GREGORIAN
METHOD:PUBLISH
X-WR-CALNAME:FEBRAPSI
X-ORIGINAL-URL:https://febrapsi.org
X-WR-CALDESC:Eventos para FEBRAPSI
REFRESH-INTERVAL;VALUE=DURATION:PT1H
X-Robots-Tag:noindex
X-PUBLISHED-TTL:PT1H
BEGIN:VTIMEZONE
TZID:America/Sao_Paulo
BEGIN:STANDARD
TZOFFSETFROM:-0200
TZOFFSETTO:-0300
TZNAME:-03
DTSTART:20190217T020000
END:STANDARD
END:VTIMEZONE
BEGIN:VEVENT
DTSTART;TZID=America/Sao_Paulo:20201128T000000
DTEND;TZID=America/Sao_Paulo:20201128T000000
DTSTAMP:20260423T223813
CREATED:20210615T035409Z
LAST-MODIFIED:20211014T080858Z
UID:8196-1606521600-1606521600@febrapsi.org
SUMMARY:Atividade com Dr. Bernard Golse - "Pensando a Observação de Bebês com Esther Bick e Emmi Pikler: repercussões na clínica psicanalítica"
DESCRIPTION:A Diretoria da Infância e Adolescência convida para a Conferência de Encerramento das Atividades de 2020\, no dia 28 de novembro (sábado)\, das 10h às 12h\, na Plataforma ZOOM/SPPA. PENSANDO A OBSERVAÇÃO DE BEBÊS COM ESTHER BICK E EMMI PIKLER:\n REPERCUSSÕES NA CLÍNICA PSICANALÍTICA \nConvidado:\n BERNARD GOLSE\n (Psicanalista e Membro da Associação Psicanalítica Francesa)\n Coordenação:\n NARA AMÁLIA CARON (Diretora da Infância e Adolescência da SPPA) \nA conferência com o Dr. Golse encerra o ano da Diretoria da Infância e Adolescência. Golse aborda a observação de bebês como um modo de comunicação que visa apreender o mundo interno da criança na dimensão emocional e afetiva das interações\, reconhecendo a importância dos cuidados do bebê para a sua subjetivação. Discute aspectos dos métodos de E. Pikler e de E. Bick e as repercussões na clínica\, fazendo uma integração dos temas abordados no decorrer de 2020.\n Convidamos vocês\, juntamente com a Diretoria da SPPA\, para participar dessa discussão com o Dr. Golse. \n Dr. Bernard Golse\n Psiquiatra Infantil\, Psicanalista e Membro da Associação Psicanalítica Francesa.\n Professor de psiquiatria infantil da Université Paris-Descartes desde 1993\, Diretor do Serviço de Psiquiatria Infantil do Hospital Necker-Enfants Malades (Paris\, França). Atualmente é Presidente da Association Pikler-Lóczy France e Presidente da Associação Européia de Psicopatologia da Criança e do Adolescente (AEPEA)\n Foi membro do Conselho Superior de Adoção\, na França\, e Presidente do Grupo WAIMH (World Association for Infant Mental Health) da Língua Francesa.\n Entre sua extensa lista de livros\, podemos destacar os títulos em português:\n No Brasil: “Sobre a psicoterapia pais-bebê: narratividade\, filiação e transmissão” (2003) e “O Desenvolvimento afetivo e intelectual da criança” (1998) e\,\n Em Portugal: “O Ser-Bebé” (2007); “O desenvolvimento afectivo e intelectual da criança (2006); “Do corpo ao pensamento” (2002) e “Insistir Existir: Do ser à pessoa” (2001) \n Atividade Aberta\n Membros da SPPA isentos – Inscrição pelo Boletim\n \n Inscrições Antecipadas:\n \n https://sacola.pagseguro.uol.com.br/04bd2cb8-b989-481c-be24-2a84eee80c05\n Valor R$40\,00 \n Obrigatório:\n Escrever nome completo e e-mail.\n Após realizado o pagamento\, envie comprovante por whats: +55 51 984100189\n  \nAtenciosamente\,\n José Carlos Calich – Presidente\n Nara Amália Caron – Diretora da Infância e Adolescência  
URL:https://febrapsi.org/evento/atividade-com-dr-bernard-golse-pensando-a-observacao-de-bebes-com-esther-bick-e-emmi-pikler-repercussoes-na-clinica-psicanalitica/
CATEGORIES:Geral
END:VEVENT
END:VCALENDAR