BEGIN:VCALENDAR
VERSION:2.0
PRODID:-//FEBRAPSI - ECPv6.15.20//NONSGML v1.0//EN
CALSCALE:GREGORIAN
METHOD:PUBLISH
X-WR-CALNAME:FEBRAPSI
X-ORIGINAL-URL:https://febrapsi.org
X-WR-CALDESC:Eventos para FEBRAPSI
REFRESH-INTERVAL;VALUE=DURATION:PT1H
X-Robots-Tag:noindex
X-PUBLISHED-TTL:PT1H
BEGIN:VTIMEZONE
TZID:America/Sao_Paulo
BEGIN:STANDARD
TZOFFSETFROM:-0300
TZOFFSETTO:-0300
TZNAME:-03
DTSTART:19690101T000000
END:STANDARD
END:VTIMEZONE
BEGIN:VEVENT
DTSTART;TZID=America/Sao_Paulo:20260424T001735
DTEND;TZID=America/Sao_Paulo:20260424T001735
DTSTAMP:20260424T001735
CREATED:20210615T034832Z
LAST-MODIFIED:20211014T080902Z
UID:8087-0-0@febrapsi.org
SUMMARY:Adolescência: Um Diálogo Na Fronteira
DESCRIPTION:27 de setembro de 2019\, das 20h às 21h30 \nPalestra: Adolescência: Um Diálogo Na Fronteira \nBernardo Tanis \n Presidente da SBPSP\, Doutor pelo Núcleo de Psicanálise da PUC-SP. Membro Efetivo da SBPSP e docente do Instituto de Psicanálise. Membro da IPA. \n  \n\n\n28 de setembro de 2019\, das 08h às 11h30 \nSeminário teórico: das 08h às 09h30 \nTema: Desafios Atuais na Clinica Psicanalítica com Adolescentes\n Destinado a profissionais e acadêmicos da medicina e psicologia \n Seminário clínico: das 10h às 11h30 \nRelato de uma experiência clínica supervisionada\n Destinado a profissionais da área de medicina e psicologia com experiência clínica \n  \nCoordenação Local:\n Fátima Regina Tavares Silva Tiezzi \n Giovanni Lopes de Farias\n Josiane Machado Ruiz\n Maria Ângela Camargo Virgili\n Maria Angélica Amorieli Bongiovanni\n Selma Terezinha Oliveira Fernandes Jorge\n Vera Tavares Primo \n  \n\nInformações e Inscrições:\n(11) 2125-3700\n www.sbpsp.org.br  \n\nLocal:\nAPM (Associação Paulista de Medicina) \n Regional de Presidente Prudente \n Rua Napoleão Antunes Ribeiro Homem\, 432\, \n Jardim Marupiara | Presidente Prudente \n Fone: (18) 3223-3910 \n\nTaxa de Inscrição:\n27 de setembro de 2019 – Palestra\n Profissionais: R$ 40\,00\n Membros da SBPSP/ Febrapsi: R$ 30\,00\n Estudantes\, profissionais da rede pública: R$ 20\,00 \n  \n28 de setembro de 2019\n Seminário Clínico: R$ 80\,00\n Seminário Teórico: R$ 80\,00
URL:https://febrapsi.org/evento/adolescencia-um-dialogo-na-fronteira/
CATEGORIES:Geral
ATTACH;FMTTYPE=image/png:https://febrapsi.org/storage/2021/06/cartaz-adolescencia-um-dialogo-na-fronteira-SESEZW.tmp_.png
END:VEVENT
END:VCALENDAR