BEGIN:VCALENDAR
VERSION:2.0
PRODID:-//FEBRAPSI - ECPv6.15.20//NONSGML v1.0//EN
CALSCALE:GREGORIAN
METHOD:PUBLISH
X-WR-CALNAME:FEBRAPSI
X-ORIGINAL-URL:https://febrapsi.org
X-WR-CALDESC:Eventos para FEBRAPSI
REFRESH-INTERVAL;VALUE=DURATION:PT1H
X-Robots-Tag:noindex
X-PUBLISHED-TTL:PT1H
BEGIN:VTIMEZONE
TZID:America/Sao_Paulo
BEGIN:STANDARD
TZOFFSETFROM:-0200
TZOFFSETTO:-0300
TZNAME:-03
DTSTART:20180218T020000
END:STANDARD
BEGIN:DAYLIGHT
TZOFFSETFROM:-0300
TZOFFSETTO:-0200
TZNAME:-02
DTSTART:20181104T030000
END:DAYLIGHT
BEGIN:STANDARD
TZOFFSETFROM:-0200
TZOFFSETTO:-0300
TZNAME:-03
DTSTART:20190217T020000
END:STANDARD
END:VTIMEZONE
BEGIN:VEVENT
DTSTART;TZID=America/Sao_Paulo:20191005T000000
DTEND;TZID=America/Sao_Paulo:20191005T000000
DTSTAMP:20260424T125540
CREATED:20210615T034902Z
LAST-MODIFIED:20211014T080859Z
UID:8099-1570233600-1570233600@febrapsi.org
SUMMARY:A intuição em uma supervisão com Bion - Encontro preparatório/ Congresso Bion 2020 - Barcelona - SPPA
DESCRIPTION:A intuição em uma supervisão com Bion – Encontro preparatório/ Congresso Bion 2020 – Barcelona 05 de outubro\, 9h às 12h30. 
URL:https://febrapsi.org/evento/a-intuicao-em-uma-supervisao-com-bion-encontro-preparatorio-congresso-bion-2020-barcelona-sppa/
CATEGORIES:Geral
ATTACH;FMTTYPE=image/jpeg:https://febrapsi.org/storage/2021/06/2019-10-05-bion-3cpy2B.tmp_.jpg
END:VEVENT
END:VCALENDAR