BEGIN:VCALENDAR
VERSION:2.0
PRODID:-//FEBRAPSI - ECPv6.15.20//NONSGML v1.0//EN
CALSCALE:GREGORIAN
METHOD:PUBLISH
X-WR-CALNAME:FEBRAPSI
X-ORIGINAL-URL:https://febrapsi.org
X-WR-CALDESC:Eventos para FEBRAPSI
REFRESH-INTERVAL;VALUE=DURATION:PT1H
X-Robots-Tag:noindex
X-PUBLISHED-TTL:PT1H
BEGIN:VTIMEZONE
TZID:America/Sao_Paulo
BEGIN:STANDARD
TZOFFSETFROM:-0300
TZOFFSETTO:-0300
TZNAME:-03
DTSTART:20200101T000000
END:STANDARD
END:VTIMEZONE
BEGIN:VEVENT
DTSTART;TZID=America/Sao_Paulo:20210615T151300
DTEND;TZID=America/Sao_Paulo:20210615T151300
DTSTAMP:20260423T202112
CREATED:20211014T064337Z
LAST-MODIFIED:20211014T080856Z
UID:38673-1623769980-1623769980@febrapsi.org
SUMMARY:A Diretoria da Infância e Adolescência e a parceria SPPA/Projeto Pescar convidam para a Reunião "Pescando novas perspectivas"
DESCRIPTION:A Diretoria da Infância e Adolescência e a parceria SPPA/Projeto Pescar convidam para a Reunião: “Pescando novas perspectivas”\, no dia 30 de junho de 2021 (quarta-feira)\, das 11h30 às 12h45\, na Plataforma Zoom/SPPA. \nApresentação:\nLuciana Aranha Secco (SPPA)\nJosênia Heck Munhoz (SPPA) \nComentários:\nAdriana Pacheco Pires (SPPA) \nCoordenação:\nDenise Steibel (SPPA) \nAtividade aberta e gratuita \nInscrições antecipadas:\nhttps://zoom.us/webinar/register/WN_iTjHpmtMR3qTzNkbmH8j4g\n \nAtenciosamente\,\nJosé Carlos Calich – Presidente\nNara Amália Caron – Diretora da Infância e Adolescência \n 
URL:https://febrapsi.org/evento/a-diretoria-da-infancia-e-adolescencia-e-a-parceria-sppa-projeto-pescar-convidam-para-a-reuniao-pescando-novas-perspectivas/
CATEGORIES:Geral
ORGANIZER;CN="SPPA":MAILTO:sppa@sppa.org.br
END:VEVENT
END:VCALENDAR