BEGIN:VCALENDAR
VERSION:2.0
PRODID:-//FEBRAPSI - ECPv6.15.20//NONSGML v1.0//EN
CALSCALE:GREGORIAN
METHOD:PUBLISH
X-WR-CALNAME:FEBRAPSI
X-ORIGINAL-URL:https://febrapsi.org
X-WR-CALDESC:Eventos para FEBRAPSI
REFRESH-INTERVAL;VALUE=DURATION:PT1H
X-Robots-Tag:noindex
X-PUBLISHED-TTL:PT1H
BEGIN:VTIMEZONE
TZID:America/Sao_Paulo
BEGIN:STANDARD
TZOFFSETFROM:-0300
TZOFFSETTO:-0300
TZNAME:-03
DTSTART:20200101T000000
END:STANDARD
END:VTIMEZONE
BEGIN:VEVENT
DTSTART;TZID=America/Sao_Paulo:20210415T170000
DTEND;TZID=America/Sao_Paulo:20210415T170000
DTSTAMP:20260424T234248
CREATED:20211014T064238Z
LAST-MODIFIED:20211014T080857Z
UID:38648-1618506000-1618506000@febrapsi.org
SUMMARY:A clínica psicanalítica de bebês\, crianças e adolescentes – MUNDO AFORA
DESCRIPTION:“NIA apresenta: A clínica psicanalítica de bebês\, crianças e adolescentes mundo afora” \nCom muita satisfação o NIA convida a todos para a segunda conferência do projeto “A clínica psicanalítica de bebês\, crianças e adolescentes mundo afora” com a  Dra Christine Anzieu-Premmeer . Francesa radicada em Nova Iorque há muitos anos\, ela compartilhará sua experiência no atendimento de bebês e suas famílias\, através do tema “ Colapso Depressivo da Criança Pequena e Qualidade do Brincar nas psicoterapias  Pais-Bebês”. \nContamos com a participação de todos! \nDia: 15/05/2021 às 11:00 \n*  tradução simultânea do francês para o português. \n  \nO NIA tem manifestado nos últimos anos interesse pela diversidade cultural e suas repercussões na clínica psicanalítica\, tendo promovido encontros de profissionais da América Latina e África. Com este foco\, a equipe apresentou o projeto deste evento para a Comissão de Prática Analítica e Atividades Científicas (CAPSA) da IPA\, solicitando a verba necessária para sua realização. Ficamos muito honradas com a aprovação e esperamos seguir neste rumo de estudos e integrações. \nInscrições: http://sbpdepa.org.br/mundo-afora/ \nInformações: comunicacao@sbpdepa.org.br
URL:https://febrapsi.org/evento/a-clinica-psicanalitica-de-bebes-criancas-e-adolescentes-mundo-afora/
CATEGORIES:Geral
END:VEVENT
END:VCALENDAR