BEGIN:VCALENDAR
VERSION:2.0
PRODID:-//FEBRAPSI - ECPv6.15.20//NONSGML v1.0//EN
CALSCALE:GREGORIAN
METHOD:PUBLISH
X-WR-CALNAME:FEBRAPSI
X-ORIGINAL-URL:https://febrapsi.org
X-WR-CALDESC:Eventos para FEBRAPSI
REFRESH-INTERVAL;VALUE=DURATION:PT1H
X-Robots-Tag:noindex
X-PUBLISHED-TTL:PT1H
BEGIN:VTIMEZONE
TZID:America/Sao_Paulo
BEGIN:STANDARD
TZOFFSETFROM:-0200
TZOFFSETTO:-0300
TZNAME:-03
DTSTART:20190217T020000
END:STANDARD
END:VTIMEZONE
BEGIN:VEVENT
DTSTART;TZID=America/Sao_Paulo:20200509T000000
DTEND;TZID=America/Sao_Paulo:20200509T000000
DTSTAMP:20260424T035428
CREATED:20210615T035017Z
LAST-MODIFIED:20211014T080858Z
UID:8134-1588982400-1588982400@febrapsi.org
SUMMARY:A CAPACIDADE NEGATIVA - 09 de maio 2020\, 11hs
DESCRIPTION:A CAPACIDADE NEGATIVA – 09 de maio 2020\, 11hs – Apresentação Dr. Arnaldo Chuster
URL:https://febrapsi.org/evento/a-capacidade-negativa-09-de-maio-2020-11hs/
CATEGORIES:Geral
END:VEVENT
END:VCALENDAR