BEGIN:VCALENDAR
VERSION:2.0
PRODID:-//FEBRAPSI - ECPv6.15.20//NONSGML v1.0//EN
CALSCALE:GREGORIAN
METHOD:PUBLISH
X-WR-CALNAME:FEBRAPSI
X-ORIGINAL-URL:https://febrapsi.org
X-WR-CALDESC:Eventos para FEBRAPSI
REFRESH-INTERVAL;VALUE=DURATION:PT1H
X-Robots-Tag:noindex
X-PUBLISHED-TTL:PT1H
BEGIN:VTIMEZONE
TZID:America/Sao_Paulo
BEGIN:STANDARD
TZOFFSETFROM:-0200
TZOFFSETTO:-0300
TZNAME:-03
DTSTART:20180218T020000
END:STANDARD
BEGIN:DAYLIGHT
TZOFFSETFROM:-0300
TZOFFSETTO:-0200
TZNAME:-02
DTSTART:20181104T030000
END:DAYLIGHT
BEGIN:STANDARD
TZOFFSETFROM:-0200
TZOFFSETTO:-0300
TZNAME:-03
DTSTART:20190217T020000
END:STANDARD
END:VTIMEZONE
BEGIN:VEVENT
DTSTART;TZID=America/Sao_Paulo:20191117T000000
DTEND;TZID=America/Sao_Paulo:20191117T000000
DTSTAMP:20260423T233719
CREATED:20210615T034932Z
LAST-MODIFIED:20211014T080859Z
UID:8114-1573948800-1573948800@febrapsi.org
SUMMARY:65ª Feira do Livro de Porto Alegre - XXII Ciclo da Revista de Psicanálise da SPPA
DESCRIPTION:Sociedade Psicanalítica de Porto Alegre (SPPA) na 65ª Feira do Livro.
URL:https://febrapsi.org/evento/65a-feira-do-livro-de-porto-alegre-xxii-ciclo-da-revista-de-psicanalise-da-sppa/
CATEGORIES:Geral
ATTACH;FMTTYPE=image/jpeg:https://febrapsi.org/storage/2021/06/2019-11-17-feiira-do-livro-Sf89Pv.tmp_.jpg
END:VEVENT
END:VCALENDAR